BEGIN:VCALENDAR
VERSION:2.0
PRODID:-//The Cotillion Society of Detroit Educational Foundation - ECPv6.15.11//NONSGML v1.0//EN
CALSCALE:GREGORIAN
METHOD:PUBLISH
X-ORIGINAL-URL:https://tcsdef.org
X-WR-CALDESC:Events for The Cotillion Society of Detroit Educational Foundation
REFRESH-INTERVAL;VALUE=DURATION:PT1H
X-Robots-Tag:noindex
X-PUBLISHED-TTL:PT1H
BEGIN:VTIMEZONE
TZID:UTC
BEGIN:STANDARD
TZOFFSETFROM:+0000
TZOFFSETTO:+0000
TZNAME:UTC
DTSTART:20230101T000000
END:STANDARD
END:VTIMEZONE
BEGIN:VEVENT
DTSTART;TZID=UTC:20251031T210000
DTEND;TZID=UTC:20251101T010000
DTSTAMP:20260423T174228
CREATED:20250617T025742Z
LAST-MODIFIED:20250617T025949Z
UID:10485-1761944400-1761958800@tcsdef.org
SUMMARY:2025 Masquerade Ball Fundraiser
DESCRIPTION:
URL:https://tcsdef.org/event/2025-masquerade-ball-fundraiser/
LOCATION:Hotel St. Regis Detriot\, 3071 W Grand Blvd\, Detroit\, MI\, 48202\, United States
ATTACH;FMTTYPE=image/jpeg:https://tcsdef.org/wp-content/uploads/2025/06/IMG_5458.jpg
END:VEVENT
BEGIN:VEVENT
DTSTART;TZID=UTC:20250405T163000
DTEND;TZID=UTC:20250405T223000
DTSTAMP:20260423T174228
CREATED:20241105T174312Z
LAST-MODIFIED:20241105T174312Z
UID:10319-1743870600-1743892200@tcsdef.org
SUMMARY:2025 Debutante Ball
DESCRIPTION:
URL:https://tcsdef.org/event/2025-debutante-ball/
LOCATION:Masonic Temple Detroit\, 500 Temple St\, Detroit\, MI\, 48201\, United States
END:VEVENT
BEGIN:VEVENT
DTSTART;TZID=UTC:20241019T110000
DTEND;TZID=UTC:20241019T140000
DTSTAMP:20260423T174228
CREATED:20240423T165047Z
LAST-MODIFIED:20240716T201710Z
UID:9393-1729335600-1729346400@tcsdef.org
SUMMARY:Mother and Daughter High Tea and Luncheon
DESCRIPTION:
URL:https://tcsdef.org/event/mother-and-daughter-high-tea-and-luncheon/
LOCATION:The Detroit Yacht Club\, 1 Riverbank Dr.\, Detroit\, MI\, 48207\, United States
ATTACH;FMTTYPE=image/jpeg:https://tcsdef.org/wp-content/uploads/2024/04/Beauty.jpg
END:VEVENT
BEGIN:VEVENT
DTSTART;VALUE=DATE:20240815
DTEND;VALUE=DATE:20240816
DTSTAMP:20260423T174228
CREATED:20240423T165229Z
LAST-MODIFIED:20240423T165229Z
UID:9396-1723680000-1723766399@tcsdef.org
SUMMARY:Debutante Applications Due
DESCRIPTION:
URL:https://tcsdef.org/event/debutante-applications-due/
LOCATION:MI
ATTACH;FMTTYPE=image/jpeg:https://tcsdef.org/wp-content/uploads/2023/08/debs3-scaled.jpeg
END:VEVENT
BEGIN:VEVENT
DTSTART;TZID=UTC:20240427T160000
DTEND;TZID=UTC:20240427T160000
DTSTAMP:20260423T174228
CREATED:20240423T164728Z
LAST-MODIFIED:20240425T135258Z
UID:9389-1714233600-1714233600@tcsdef.org
SUMMARY:Debutante Ball
DESCRIPTION:
URL:https://tcsdef.org/event/debutante-ball/
LOCATION:Masonic Temple Detroit\, 500 Temple St\, Detroit\, MI\, 48201\, United States
ATTACH;FMTTYPE=image/jpeg:https://tcsdef.org/wp-content/uploads/2023/07/debs-escorts3-scaled.jpeg
END:VEVENT
END:VCALENDAR